BEGIN:VCALENDAR
VERSION:2.0
PRODID:gb_events TYPO3 Extension
METHOD:PUBLISH
BEGIN:VEVENT
UID:c641442f2c972ae2ade4de0c1b612131
LOCATION:Nürtingen\, St. Johannes\, Vendelaustraße 28
SUMMARY:Cultural Night":" One Continent\, Many Voices
DESCRIPTION:An Evening of European Elegance\nDate":" Thursday\, April 11\, 2024 Time":" 7":"30 PM to 10":"00 PM Location":" Parish Hall\, St. Johannes\, Vendelaustr. 28\nJoin us for an unforgettable evening of European elegance! This event transcends borders\, fostering connections\, and celebrating the rich tapestry of diversity. We look forward to welcoming you in large numbers\, creating a truly special atmosphere. Save the date and prepare to be enchanted by the cultural mosaic presented by students from across Europe.\nYour International Office Team + Ecumenical Student Community
CLASS:PUBLIC
DTSTART:20240411T173000Z
DTEND:20240411T200000Z
DTSTAMP:20260420T104250Z
END:VEVENT
END:VCALENDAR